BEGIN:VCALENDAR
VERSION:2.0
PRODID:-//ChamberMaster//Event Calendar 2.0//EN
METHOD:PUBLISH
X-PUBLISHED-TTL:P3D
REFRESH-INTERVAL:P3D
CALSCALE:GREGORIAN
BEGIN:VEVENT
DTSTART:20250928T010000Z
DTEND:20250928T050000Z
X-MICROSOFT-CDO-ALLDAYEVENT:FALSE
SUMMARY:CHUBASCO FEST
DESCRIPTION:Come and join Northwest Valley Chamber and Hand-Brew Beer at CHUBASCO FEST 2025\n\n\n\nChubasco Fest is a celebration of SPICY BEER\, SELTZERS AND FOOD that will make your taste buds tingle.  Come vote for your favorite beer and salsas\, nosh at the food trucks and hit up some of your favorite local vendor booths.  \n\n\n\n8 + Breweries \n\n\n\nAdmission includes:\n\n5 oz. Commemorative Glass\n\nUnlimited Pours\n\nOutdoor Games
X-ALT-DESC;FMTTYPE=text/html:<p>Come and join Northwest Valley Chamber and Hand-Brew Beer at&nbsp\;<b>CHUBASCO FEST 2025<br />\n<br />\nChubasco Fest is a celebration of SPICY BEER\, SELTZERS AND FOOD that will make your taste buds tingle.&nbsp\; Come vote for your favorite beer and salsas\, nosh at the food trucks and hit up some of your favorite local vendor booths.&nbsp\;&nbsp\;</b><br />\n<br />\n8 + Breweries&nbsp\;<br />\n<br />\n<strong>Admission includes:</strong><br />\n5 oz. Commemorative Glass<br />\nUnlimited Pours<br />\nOutdoor Games</p>\n
LOCATION:Hand-Brewed Beer\, LLC 9771 Variel Ave. Chatsworth\, CA 91311
UID:e.1485.858
SEQUENCE:3
DTSTAMP:20260421T082800Z
URL:https://members.chatsworthchamber.com/events/details/chubasco-fest-858
END:VEVENT

END:VCALENDAR
