BEGIN:VCALENDAR
VERSION:2.0
PRODID:-//ChamberMaster//Event Calendar 2.0//EN
METHOD:PUBLISH
X-PUBLISHED-TTL:P3D
REFRESH-INTERVAL:P3D
CALSCALE:GREGORIAN
BEGIN:VEVENT
DTSTART:20250910T230000Z
DTEND:20250911T013000Z
X-MICROSOFT-CDO-ALLDAYEVENT:FALSE
SUMMARY:Logix Porter Ranch's 10th Anniversary
DESCRIPTION:Logix Porter Ranch Branch's 10th Anniversary.\n\n\n\nJoin the Porter Ranch branch of Logix for an afternoon of connection\, celebration\, and community.\n\nAll are welcome!
X-ALT-DESC;FMTTYPE=text/html:Logix Porter Ranch Branch&#39\;s 10th Anniversary.<br />\n<br />\nJoin the Porter Ranch branch of Logix for an afternoon of connection\, celebration\, and community.<br />\nAll are welcome!
LOCATION:Logix Federal Credit Union 19765 Rinaldi St.\, Suite B Porter Ranch\, CA 91326
UID:e.1485.862
SEQUENCE:3
DTSTAMP:20260421T081430Z
URL:https://members.chatsworthchamber.com/events/details/logix-porter-ranch-s-10th-anniversary-862
END:VEVENT

END:VCALENDAR
